BEGIN:VCALENDAR
PRODID:NingEventWidget-v1
VERSION:2.0
METHOD:PUBLISH
BEGIN:VEVENT
UID:2870411:Event:80544
DTSTAMP:20260420T062144Z
SUMMARY:w/ Callaghan at \"Grocery on Home\"
DESCRIPTION:Matthew Kahler is starting out the evening with singer/son
 gwriter Callaghan at \"Grocery on Home\" in the Little Five Points are
 a of Atlanta Friday October 14th from 8-11pm.\n\nFor more information 
 visit http://worldofwiffledust.com/events/w-callaghan-at-grocery-on-ho
 me
DTSTART:20111015T000000Z
DTEND:20111015T030000Z
CATEGORIES:concert
LOCATION:Grocery on Home
WEBSITE:
URL:
CONTACT:404-234-8050
ORGANIZER;CN="Matthew Kahler":http://worldofwiffledust.com/profile/mat
 thewkahler
ATTACH;FMTTYPE="image/jpeg":http://storage.ning.com/topology/rest/1.0/
 file/get/1083773109?profile=original
ATTENDEE;ROLE=REQ-PARTICIPANT;PARTSTAT=ACCEPTED;RSVP=TRUE;CN="Matthew 
 Kahler":http://worldofwiffledust.com/profile/matthewkahler
END:VEVENT
END:VCALENDAR
