BEGIN:VCALENDAR
PRODID:NingEventWidget-v1
VERSION:2.0
METHOD:PUBLISH
BEGIN:VEVENT
UID:2870411:Event:92271
DTSTAMP:20260419T151607Z
SUMMARY:Will Pollock with Wiffledust presents Story and Song with Matt
 hew Kahler
DESCRIPTION:Will Pollock with Wiffledust Present Story and Song\nAn Ev
 ening with Matthew Kahler!\n \nThis is the launch of an intimate  co
 llaborative and creative experience in the beautiful listening space o
 f Will Pollock's Sone Four Studios at Studioplex of Atlanta. Wiffledus
 t is on location in joining with photographer and writer Will Pollock 
 in bringing the magic of art to a warm group of folks who appreciate i
 t. Want to come? Just let us know here. You can explore the gallery, h
 ave some yummy (and perhaps spirited) refreshments on us, and hear Mat
 thew Kahler perform and discuss his body of work. Come and be part of 
 a creative community!\nTickets are $25, goodies included and space is 
 limited. Use the \"Pay Now\" button on the right here, and let us know
  your name to hold your space. This is a comfortable listening space. 
 Conversation and community before the music and during intermission. G
 allery browsing begins at 7. Matthew starts at 8.\n \nphotograph is b
 y Will Pollock taken at Studioplex Atlanta for Wiffledust\n\nFor more 
 information visit http://worldofwiffledust.com/events/to-be-announced
DTSTART:20120407T230000Z
DTEND:20120408T023000Z
CATEGORIES:listening, space
LOCATION:Stone Four Studios at Studioplex Atlanta
WEBSITE:http://www.matthewkahler.net
URL:http://www.matthewkahler.net
CONTACT:
ORGANIZER:Will Pollock, Wiffledust, and Matthew Kahler
ATTACH;FMTTYPE="image/jpeg":http://storage.ning.com/topology/rest/1.0/
 file/get/1083774546?profile=original
ATTENDEE;ROLE=REQ-PARTICIPANT;PARTSTAT=ACCEPTED;RSVP=TRUE;CN="Matthew 
 Kahler":http://worldofwiffledust.com/profile/matthewkahler
ATTENDEE;ROLE=REQ-PARTICIPANT;PARTSTAT=ACCEPTED;RSVP=TRUE;CN=wiffledus
 t:http://worldofwiffledust.com/profile/wiffledust
ATTENDEE;ROLE=REQ-PARTICIPANT;PARTSTAT=ACCEPTED;RSVP=TRUE;CN="Will Pol
 lock":http://worldofwiffledust.com/profile/willpollock
END:VEVENT
END:VCALENDAR
