BEGIN:VCALENDAR
PRODID:NingEventWidget-v1
VERSION:2.0
METHOD:PUBLISH
BEGIN:VEVENT
UID:2870411:Event:9872
DTSTAMP:20260420T130627Z
SUMMARY:the PSALM salon
DESCRIPTION:w trio/special guests...sharing the night with Barnaby Bri
 ght\n\nFor more information visit http://worldofwiffledust.com/events/
 the-psalm-salon
DTSTART:20100626T233000Z
DTEND:20100627T030000Z
CATEGORIES:concert
LOCATION:overbrook, philadelphia, stephen dijoseph
WEBSITE:http://www.thepsalm.org
URL:http://www.thepsalm.org
CONTACT:
ORGANIZER:Jamey Reilly
ATTACH;FMTTYPE="image/jpeg":http://storage.ning.com/topology/rest/1.0/
 file/get/1083756988?profile=original
ATTENDEE;ROLE=REQ-PARTICIPANT;PARTSTAT=ACCEPTED;RSVP=TRUE;CN="stephen 
 dijoseph":http://worldofwiffledust.com/profile/stephendijoseph303
END:VEVENT
END:VCALENDAR
