BEGIN:VCALENDAR
PRODID:NingEventWidget-v1
VERSION:2.0
METHOD:PUBLISH
BEGIN:VEVENT
UID:2870411:Event:2914
DTSTAMP:20260420T120848Z
SUMMARY:The Brilliant Inventions
DESCRIPTION:acoustic performance\n\nFor more information visit http://
 worldofwiffledust.com/events/the-brilliant-inventions
DTSTART:20091206T010000Z
DTEND:20091206T030000Z
CATEGORIES:performance
LOCATION:Eddie's Attic
WEBSITE:
URL:
CONTACT:
ORGANIZER:
ATTACH;FMTTYPE="image/jpeg":http://storage.ning.com/topology/rest/1.0/
 file/get/1083754618?profile=original
ATTENDEE;ROLE=REQ-PARTICIPANT;PARTSTAT=ACCEPTED;RSVP=TRUE;CN=wiffledus
 t:http://worldofwiffledust.com/profile/wiffledust
END:VEVENT
END:VCALENDAR
