BEGIN:VCALENDAR
PRODID:NingEventWidget-v1
VERSION:2.0
METHOD:PUBLISH
BEGIN:VEVENT
UID:2870411:Event:8028
DTSTAMP:20260420T100634Z
SUMMARY:The Brilliant Inventions at Wiffledust
DESCRIPTION:The Brilliant Inventions are coming to a live taping at Wi
 ffledust, Wednesday May 19th. This is a private event, but if you're s
 eeing this, all you have to do is shoot an email to lisa@wiffledustonl
 ine.com if you would like to come. This fun duo have brilliant harmoni
 es and superb songwriting. They are packing houses throughout the sout
 h including at Eddie's Attic in their hometown of Atlanta. Don't miss 
 them here!\n\nFor more information visit http://worldofwiffledust.com/
 events/the-brilliant-inventions-at
DTSTART:20100519T233000Z
DTEND:20100520T013000Z
CATEGORIES:live, taping
LOCATION:Wiffledust
WEBSITE:
URL:
CONTACT:
ORGANIZER;CN=wiffledust:http://worldofwiffledust.com/profile/wiffledus
 t
ATTACH;FMTTYPE="image/jpeg":http://storage.ning.com/topology/rest/1.0/
 file/get/1083756808?profile=original
ATTENDEE;ROLE=REQ-PARTICIPANT;PARTSTAT=ACCEPTED;RSVP=TRUE;CN="Maura C.
  Ciccarelli":http://worldofwiffledust.com/profile/MauraCCiccarelli
ATTENDEE;ROLE=REQ-PARTICIPANT;PARTSTAT=ACCEPTED;RSVP=TRUE;CN="John Kel
 ly Green":http://worldofwiffledust.com/profile/JohnKellyGreen
ATTENDEE;ROLE=REQ-PARTICIPANT;PARTSTAT=ACCEPTED;RSVP=TRUE;CN="stephen 
 dijoseph":http://worldofwiffledust.com/profile/stephendijoseph303
ATTENDEE;ROLE=REQ-PARTICIPANT;PARTSTAT=ACCEPTED;RSVP=TRUE;CN=wiffledus
 t:http://worldofwiffledust.com/profile/wiffledust
END:VEVENT
END:VCALENDAR
