BEGIN:VCALENDAR
PRODID:NingEventWidget-v1
VERSION:2.0
METHOD:PUBLISH
BEGIN:VEVENT
UID:2870411:Event:89609
DTSTAMP:20260419T180400Z
SUMMARY:Synchronicity Cabaret and Silent Auction Feb 18th
DESCRIPTION:More info coming soon on this, but this is a reschedule of
  the Christmas Naughty & Nice Cabaret and Silent Auction. Great cause 
 for Synchronicity Theater.\n\nFor more information visit http://worldo
 fwiffledust.com/events/synchronicity-cabaret-and-silent-auction-feb-18
 th
DTSTART:20120218T230000Z
DTEND:20120219T000000Z
CATEGORIES:fundraiser
LOCATION:More info to come
WEBSITE:
URL:
CONTACT:
ORGANIZER;CN="Matthew Kahler":http://worldofwiffledust.com/profile/mat
 thewkahler
ATTACH;FMTTYPE="image/jpeg":http://storage.ning.com/topology/rest/1.0/
 file/get/1083768840?profile=original
ATTENDEE;ROLE=REQ-PARTICIPANT;PARTSTAT=ACCEPTED;RSVP=TRUE;CN="Matthew 
 Kahler":http://worldofwiffledust.com/profile/matthewkahler
END:VEVENT
END:VCALENDAR
