BEGIN:VCALENDAR
PRODID:NingEventWidget-v1
VERSION:2.0
METHOD:PUBLISH
BEGIN:VEVENT
UID:2870411:Event:1346
DTSTAMP:20260421T013245Z
SUMMARY:Stephen DiJoseph will be a guest on Gene Shay's WXPN show
DESCRIPTION:Steve will chat with Gene Shay on the long running folk sh
 ow from WXPN-FM\n\nFor more information visit http://worldofwiffledust
 .com/events/stephen-dijoseph-will-be-a
DTSTART:20090927T000000Z
DTEND:20090927T030000Z
CATEGORIES:radio, interview
LOCATION:88.5 WXPN FM
WEBSITE:
URL:
CONTACT:
ORGANIZER:
ATTACH;FMTTYPE="image/jpeg":
ATTENDEE;ROLE=REQ-PARTICIPANT;PARTSTAT=ACCEPTED;RSVP=TRUE;CN=wiffledus
 t:http://worldofwiffledust.com/profile/wiffledust
END:VEVENT
END:VCALENDAR
