BEGIN:VCALENDAR
PRODID:NingEventWidget-v1
VERSION:2.0
METHOD:PUBLISH
BEGIN:VEVENT
UID:2870411:Event:1494
DTSTAMP:20260421T000606Z
SUMMARY:Stephen DiJoseph performing at Tom's Place
DESCRIPTION:Steve will be performing at Thomas Paine Unitarian Church 
 at 7:30 pm on Friday night October 9th.\n\nFor more information visit 
 http://worldofwiffledust.com/events/stephen-dijoseph-performing-at
DTSTART:20091009T233000Z
DTEND:20091010T013000Z
CATEGORIES:performance
LOCATION:3424 Ridge PIke
WEBSITE:
URL:
CONTACT:
ORGANIZER:Tom's Place
ATTACH;FMTTYPE="image/jpeg":
ATTENDEE;ROLE=REQ-PARTICIPANT;PARTSTAT=ACCEPTED;RSVP=TRUE;CN=wiffledus
 t:http://worldofwiffledust.com/profile/wiffledust
ATTENDEE;ROLE=REQ-PARTICIPANT;PARTSTAT=TENTATIVE;RSVP=TRUE;CN="Donna S
 tumpo":http://worldofwiffledust.com/profile/DonnaStumpo
END:VEVENT
END:VCALENDAR
