BEGIN:VCALENDAR
PRODID:NingEventWidget-v1
VERSION:2.0
METHOD:PUBLISH
BEGIN:VEVENT
UID:2870411:Event:5147
DTSTAMP:20260420T061127Z
SUMMARY:Stephen DiJoseph and Deirdre Flint.. LIVE!
DESCRIPTION:Stephen DiJoseph and DEIRDRE FLINT..\n\nCOMEDY and ...comp
 ositions.\n\nStephen plays music from his 6 CD releases\nPLUS PREVIEW 
 material from upcoming releases\n\nFor more information visit http://w
 orldofwiffledust.com/events/stephen-dijoseph-and-deirdre
DTSTART:20100129T003000Z
DTEND:20100129T033000Z
CATEGORIES:concert
LOCATION:The Lansdowne Folk Club at the 20th Century Club
WEBSITE:http://maps.google.com/maps/ms?ie=UTF8&msa=0&msid=110922222346
 426366955.00047d896de5f670a4cf6&ll=39.937974,-75.271926&spn=0.008308,0
 .012617&z=16
URL:http://maps.google.com/maps/ms?ie=UTF8&msa=0&msid=1109222223464263
 66955.00047d896de5f670a4cf6&ll=39.937974,-75.271926&spn=0.008308,0.012
 617&z=16
CONTACT:
ORGANIZER:Bob Beach / Lee Jones
ATTACH;FMTTYPE="image/jpeg":http://storage.ning.com/topology/rest/1.0/
 file/get/1083756658?profile=original
ATTENDEE;ROLE=REQ-PARTICIPANT;PARTSTAT=ACCEPTED;RSVP=TRUE;CN="stephen 
 dijoseph":http://worldofwiffledust.com/profile/stephendijoseph303
END:VEVENT
END:VCALENDAR
