BEGIN:VCALENDAR
PRODID:NingEventWidget-v1
VERSION:2.0
METHOD:PUBLISH
BEGIN:VEVENT
UID:2870411:Event:14308
DTSTAMP:20260420T075646Z
SUMMARY:Stephen DiJoseph and Danelia Cotton
DESCRIPTION:playing a set before the wonderful Danelia Cotton\nat Exto
 n's premier summer series: Concerts on the Square\n\nFor more informat
 ion visit http://worldofwiffledust.com/events/stephen-dijoseph-and-dan
 elia
DTSTART:20100720T230000Z
DTEND:20100721T010000Z
CATEGORIES:concert
LOCATION:Eagleview Center
WEBSITE:
URL:
CONTACT:
ORGANIZER:the Hankin Group
ATTACH;FMTTYPE="image/jpeg":http://storage.ning.com/topology/rest/1.0/
 file/get/1083757604?profile=original
ATTENDEE;ROLE=REQ-PARTICIPANT;PARTSTAT=ACCEPTED;RSVP=TRUE;CN="stephen 
 dijoseph":http://worldofwiffledust.com/profile/stephendijoseph303
END:VEVENT
END:VCALENDAR
