BEGIN:VCALENDAR
PRODID:NingEventWidget-v1
VERSION:2.0
METHOD:PUBLISH
BEGIN:VEVENT
UID:2870411:Event:7653
DTSTAMP:20260420T061110Z
SUMMARY:Stephen DiJoseph and Alison Paige Newitt (from Angel Band)
DESCRIPTION:Stephen Dijoseph(w band of rob swanson bass and jim fitzpa
 trick drums) - Alison Paige Newitt's Alycat Band!\n\nFor more informat
 ion visit http://worldofwiffledust.com/events/stephen-dijoseph-and-ali
 son
DTSTART:20100423T233000Z
DTEND:20100424T030000Z
CATEGORIES:concert
LOCATION:Kennett Flash
WEBSITE:http://www.kennettflash.org
URL:http://www.kennettflash.org
CONTACT:
ORGANIZER:Jesse Lundy
ATTACH;FMTTYPE="image/jpeg":http://storage.ning.com/topology/rest/1.0/
 file/get/1083756698?profile=original
ATTENDEE;ROLE=REQ-PARTICIPANT;PARTSTAT=ACCEPTED;RSVP=TRUE;CN="stephen 
 dijoseph":http://worldofwiffledust.com/profile/stephendijoseph303
END:VEVENT
END:VCALENDAR
