BEGIN:VCALENDAR
PRODID:NingEventWidget-v1
VERSION:2.0
METHOD:PUBLISH
BEGIN:VEVENT
UID:2870411:Event:85846
DTSTAMP:20260420T045854Z
SUMMARY:Shawn Mullins w/Matthew Kahler at The Crimson Moon
DESCRIPTION:Matthew Kahler is going to be with Shawn Mullins at The Cr
 imson Moon Saturday Dec 17th and Sunday Dec 18th. Saturday is sold out
 , but Sunday is still available at the time of this posting. Matthew a
 nd Shawn being in the same room goes back to the history of the best i
 n indie music in Georgia. This will be an exciting night, and we hope 
 you're there!\n\nFor more information visit http://worldofwiffledust.c
 om/events/shawn-mullins-w-matthew-kahler-at-the-crimson-moon
DTSTART:20111218T003000Z
DTEND:20111219T003000Z
CATEGORIES:performance, listening, space
LOCATION:The Crimson Moon Cafe
WEBSITE:http://www.thecrimsonmoon.com
URL:http://www.thecrimsonmoon.com
CONTACT:706-864-3982
ORGANIZER;CN="Matthew Kahler":http://worldofwiffledust.com/profile/mat
 thewkahler
ATTACH;FMTTYPE="image/jpeg":http://storage.ning.com/topology/rest/1.0/
 file/get/1083770551?profile=original
ATTENDEE;ROLE=REQ-PARTICIPANT;PARTSTAT=ACCEPTED;RSVP=TRUE;CN="Matthew 
 Kahler":http://worldofwiffledust.com/profile/matthewkahler
END:VEVENT
END:VCALENDAR
