BEGIN:VCALENDAR
PRODID:NingEventWidget-v1
VERSION:2.0
METHOD:PUBLISH
BEGIN:VEVENT
UID:2870411:Event:4972
DTSTAMP:20260420T084846Z
SUMMARY:River Jordan Live on the Radio
DESCRIPTION:Please join us every Wednesday 12-2pm for a literary jam f
 est of news, interviews, reviews, and related segments like Walking th
 e Blog and What's In A Word. And all of it mixed it with a few tunes t
 o help your week get over the hump. You can tune in live on WRFN 107.1
 fm in Nashville or listen live via link www.riverjordanlive.com\n\nGre
 at new guests featured each week.\n\nFor more information visit http:/
 /worldofwiffledust.com/events/river-jordan-live-on-the-radio
DTSTART:20100113T170000Z
DTEND:20100113T190000Z
CATEGORIES:radio, show, live, event, each, week
LOCATION:Nashville and World Wide via the Web
WEBSITE:http://www.riverjordanlive.com
URL:http://www.riverjordanlive.com
CONTACT:
ORGANIZER;CN="River Jordan":http://worldofwiffledust.com/profile/River
 Jordan
ATTACH;FMTTYPE="image/jpeg":
ATTENDEE;ROLE=REQ-PARTICIPANT;PARTSTAT=ACCEPTED;RSVP=TRUE;CN="River Jo
 rdan":http://worldofwiffledust.com/profile/RiverJordan
END:VEVENT
END:VCALENDAR
