BEGIN:VCALENDAR
PRODID:NingEventWidget-v1
VERSION:2.0
METHOD:PUBLISH
BEGIN:VEVENT
UID:2870411:Event:22691
DTSTAMP:20260419T181337Z
SUMMARY:Rick Reiley and Ice House Gypsies
DESCRIPTION:Halloween fondue affair at the Territory Cellars winery in
  Stroud, Oklahoma. Me, Bruce Knoch and Wendell Peek performing for you
 r listening pleasure.....7-9 Oct. 30th.\n\nFor more information visit 
 http://worldofwiffledust.com/events/rick-reiley-and-ice-house
DTSTART:20101030T230000Z
DTEND:20101031T010000Z
CATEGORIES:halloweween
LOCATION:Stroud Oklahoma.
WEBSITE:http://www.territorycellars.com/
URL:http://www.territorycellars.com/
CONTACT:
ORGANIZER;CN="Rick Reiley":http://worldofwiffledust.com/profile/RickRe
 iley
ATTACH;FMTTYPE="image/jpeg":
ATTENDEE;ROLE=REQ-PARTICIPANT;PARTSTAT=ACCEPTED;RSVP=TRUE;CN="Rick Rei
 ley":http://worldofwiffledust.com/profile/RickReiley
END:VEVENT
END:VCALENDAR
