BEGIN:VCALENDAR
PRODID:NingEventWidget-v1
VERSION:2.0
METHOD:PUBLISH
BEGIN:VEVENT
UID:2870411:Event:77031
DTSTAMP:20260420T075406Z
SUMMARY:Private House Concert/Pensacola
DESCRIPTION:This is a private house concert in Pensacola, Florida. Fee
 l free to email here for more info if you are in that area on October 
 22nd.\n\nFor more information visit http://worldofwiffledust.com/event
 s/private-house-concert-pensacola
DTSTART:20111022T230000Z
DTEND:20111023T030000Z
CATEGORIES:house, concert
LOCATION:Pensacola, Fla
WEBSITE:
URL:
CONTACT:email here
ORGANIZER;CN="Matthew Kahler":http://worldofwiffledust.com/profile/mat
 thewkahler
ATTACH;FMTTYPE="image/jpeg":http://storage.ning.com/topology/rest/1.0/
 file/get/1083765092?profile=original
ATTENDEE;ROLE=REQ-PARTICIPANT;PARTSTAT=ACCEPTED;RSVP=TRUE;CN="Matthew 
 Kahler":http://worldofwiffledust.com/profile/matthewkahler
END:VEVENT
END:VCALENDAR
