BEGIN:VCALENDAR
PRODID:NingEventWidget-v1
VERSION:2.0
METHOD:PUBLISH
BEGIN:VEVENT
UID:2870411:Event:66860
DTSTAMP:20260419T140238Z
SUMMARY:Private Concert/Georgia
DESCRIPTION:Matthew will be playing at a private event in Georgia\n\nF
 or more information visit http://worldofwiffledust.com/events/private-
 concert-georgia
DTSTART:20110812T230000Z
DTEND:20110813T030000Z
CATEGORIES:private, party
LOCATION:undisclosed
WEBSITE:
URL:
CONTACT:
ORGANIZER;CN="Matthew Kahler":http://worldofwiffledust.com/profile/mat
 thewkahler
ATTACH;FMTTYPE="image/jpeg":http://storage.ning.com/topology/rest/1.0/
 file/get/1083766494?profile=original
ATTENDEE;ROLE=REQ-PARTICIPANT;PARTSTAT=ACCEPTED;RSVP=TRUE;CN="Matthew 
 Kahler":http://worldofwiffledust.com/profile/matthewkahler
END:VEVENT
END:VCALENDAR
