BEGIN:VCALENDAR
PRODID:NingEventWidget-v1
VERSION:2.0
METHOD:PUBLISH
BEGIN:VEVENT
UID:2870411:Event:4325
DTSTAMP:20260420T104316Z
SUMMARY:Philadelphia’s First International Open Mic-Jam
DESCRIPTION:As part of a city-wide effort to rebuild Philadelphia as a
  premier live music town, visionaries Dave Simons and Kyle Ober are sp
 earheading a series of new weekly open mic events in Center City. The 
 most recent addition is a truly unique undertaking with global imperat
 ives/aspirations…the city’s first international open mic-jam. With
  a format that will permit performers from anywhere to sing music from
  anywhere, as well as jam with other performers, this unique venue wil
 l be an auditory ethnic treat.\n\nFor more information visit http://wo
 rldofwiffledust.com/events/philadelphias-first
DTSTART:20091222T010000Z
DTEND:20091222T040000Z
CATEGORIES:open, mic-international, music
LOCATION:Grey Social lounge
WEBSITE:
URL:
CONTACT:215 923 4159
ORGANIZER:Linda Hutchings, Dave Simon
ATTACH;FMTTYPE="image/jpeg":
ATTENDEE;ROLE=REQ-PARTICIPANT;PARTSTAT=ACCEPTED;RSVP=TRUE;CN="stephen 
 dijoseph":http://worldofwiffledust.com/profile/stephendijoseph303
END:VEVENT
END:VCALENDAR
