BEGIN:VCALENDAR
PRODID:NingEventWidget-v1
VERSION:2.0
METHOD:PUBLISH
BEGIN:VEVENT
UID:2870411:Event:2921
DTSTAMP:20260420T134204Z
SUMMARY:Peter Mulvey
DESCRIPTION:performance\n\nFor more information visit http://worldofwi
 ffledust.com/events/peter-mulvey
DTSTART:20091121T010000Z
DTEND:20091121T030000Z
CATEGORIES:performance
LOCATION:University of Vermont Recital Hall
WEBSITE:
URL:
CONTACT:
ORGANIZER:
ATTACH;FMTTYPE="image/jpeg":http://storage.ning.com/topology/rest/1.0/
 file/get/1083754705?profile=original
ATTENDEE;ROLE=REQ-PARTICIPANT;PARTSTAT=ACCEPTED;RSVP=TRUE;CN=wiffledus
 t:http://worldofwiffledust.com/profile/wiffledust
END:VEVENT
END:VCALENDAR
