BEGIN:VCALENDAR
PRODID:NingEventWidget-v1
VERSION:2.0
METHOD:PUBLISH
BEGIN:VEVENT
UID:2870411:Event:1767
DTSTAMP:20260420T222633Z
SUMMARY:PETE KRANZ & THE WIDE-EYED MOTHER BROTHERS
DESCRIPTION:Mo' Music and JD McGillicuddy's Ardmore present\n\nOpen Mi
 c @ 10 PM with Featured Artist\nPETE KRANZ & THE WIDE-EYED MOTHER BROT
 HERS\n\nAll open mic players are welcome! Sign up with Mo!\n\nJD McGIL
 LICUDDY'S\n2626 County Line Road\nArdmore, PA 19003\n\nMO' MUSIC\nwww.
 myspace.com/momcget\nmaureenmcget@aol.com\nwww.facebook.com/maureen.mc
 gettigan\n610.931.8829\n\nFor more information visit http://worldofwif
 fledust.com/events/pete-kranz-the-wideeyed
DTSTART:20091015T020000Z
DTEND:20091015T054500Z
CATEGORIES:open, mic, with, featured, artist
LOCATION:JD McGILLICUDDY'S
WEBSITE:http://www.myspace.com/momcget
URL:http://www.myspace.com/momcget
CONTACT:610.931.8829
ORGANIZER;CN="Mo' Music/MM Productions":http://worldofwiffledust.com/p
 rofile/MoMusicMMProductions
ATTACH;FMTTYPE="image/jpeg":
ATTENDEE;ROLE=REQ-PARTICIPANT;PARTSTAT=ACCEPTED;RSVP=TRUE;CN="Mo' Musi
 c/MM Productions":http://worldofwiffledust.com/profile/MoMusicMMProduc
 tions
END:VEVENT
END:VCALENDAR
