BEGIN:VCALENDAR
PRODID:NingEventWidget-v1
VERSION:2.0
METHOD:PUBLISH
BEGIN:VEVENT
UID:2870411:Event:1519
DTSTAMP:20260420T205316Z
SUMMARY:Peaceable Kingdom Animal Communications
DESCRIPTION:Ever wonder what your pet is trying to say to you? Join me
  in the Hershey, PA area (Chocolate Town) to find out 'how to hear the
  animals'.\n\nThis is a 2 day workshop (Saturday/Sunday)\nOctober 24th
  10 am sharp - 5 pm and\nOctober 25th 10 am sharp - 5pm\n\nPlease visi
 t my web site for more info on the events/workshop page\n\nFor more in
 formation visit http://worldofwiffledust.com/events/peaceable-kingdom-
 animal
DTSTART:20091024T140000Z
DTEND:20091025T210000Z
CATEGORIES:animal, communication, workshops
LOCATION:Hershey, PA area
WEBSITE:http://www.cindywenger.com
URL:http://www.cindywenger.com
CONTACT:717-566-0922
ORGANIZER;CN="Cindy Wenger":http://worldofwiffledust.com/profile/Cindy
 Wenger
ATTACH;FMTTYPE="image/jpeg":
ATTENDEE;ROLE=REQ-PARTICIPANT;PARTSTAT=ACCEPTED;RSVP=TRUE;CN="Cindy We
 nger":http://worldofwiffledust.com/profile/CindyWenger
END:VEVENT
END:VCALENDAR
