BEGIN:VCALENDAR
PRODID:NingEventWidget-v1
VERSION:2.0
METHOD:PUBLISH
BEGIN:VEVENT
UID:2870411:Event:88396
DTSTAMP:20260420T014922Z
SUMMARY:Moonlight on the Mountain with Callaghan
DESCRIPTION:Moonlight on the Mountain is a great listening space in Bi
 rmingham, Alabama. Matthew Kahler and one of the brightest new stars i
 n singing songwriting women,  Callaghan will be making an evening of 
 music on Thursday, January 12th at 7:30 pm. Tickets are $12...great pr
 ice for such good entertainment!\n\nFor more information visit http://
 worldofwiffledust.com/events/moonlight-on-the-mountain-with-callaghan
DTSTART:20120113T003000Z
DTEND:20120113T030000Z
CATEGORIES:listening, space, performance
LOCATION:Moonlight on the Mountain, Birmingham
WEBSITE:http://www.moonlightonthemtn.com
URL:http://www.moonlightonthemtn.com
CONTACT:
ORGANIZER:Matthew Kahler, Callaghan, Moonlight on the Mountain
ATTACH;FMTTYPE="image/jpeg":http://storage.ning.com/topology/rest/1.0/
 file/get/1083772850?profile=original
ATTENDEE;ROLE=REQ-PARTICIPANT;PARTSTAT=ACCEPTED;RSVP=TRUE;CN="Matthew 
 Kahler":http://worldofwiffledust.com/profile/matthewkahler
END:VEVENT
END:VCALENDAR
