BEGIN:VCALENDAR
PRODID:NingEventWidget-v1
VERSION:2.0
METHOD:PUBLISH
BEGIN:VEVENT
UID:2870411:Event:2538
DTSTAMP:20260420T162749Z
SUMMARY:Matthew Kahler
DESCRIPTION:Dinner and a Show\n\nFor more information visit http://wor
 ldofwiffledust.com/events/matthew-kahler
DTSTART:20091121T010000Z
DTEND:20091121T030000Z
CATEGORIES:performance
LOCATION:The Blind Mule
WEBSITE:
URL:
CONTACT:
ORGANIZER:
ATTACH;FMTTYPE="image/jpeg":http://storage.ning.com/topology/rest/1.0/
 file/get/1083755383?profile=original
ATTENDEE;ROLE=REQ-PARTICIPANT;PARTSTAT=ACCEPTED;RSVP=TRUE;CN=wiffledus
 t:http://worldofwiffledust.com/profile/wiffledust
END:VEVENT
END:VCALENDAR
