BEGIN:VCALENDAR
PRODID:NingEventWidget-v1
VERSION:2.0
METHOD:PUBLISH
BEGIN:VEVENT
UID:2870411:Event:76342
DTSTAMP:20260420T045754Z
SUMMARY:Matthew Kahler w/ Vance Gilbert at The Crimson Moon Cafe
DESCRIPTION:Matthew Kahler is going on first in an evening of fantasti
 c music with Vance Gilbert at The Crimson Moon Cafe in Dahlonega, Geor
 gia. Vance is a long time friend and a wonderful songwriter, and it's 
 an honor to precede him on a great night at a great venue. Come out on
  Saturday, November 5th!\n\nFor more information visit http://worldofw
 iffledust.com/events/matthew-kahler-w-vance-gilbert-at-the-crimson-moo
 n-cafe
DTSTART:20111106T000000Z
DTEND:20111106T030000Z
CATEGORIES:performance, listening, space
LOCATION:The Crimson Moon Cafe
WEBSITE:http://www.thecrimsonmoon.com
URL:http://www.thecrimsonmoon.com
CONTACT:706-864-3982
ORGANIZER;CN="Matthew Kahler":http://worldofwiffledust.com/profile/mat
 thewkahler
ATTACH;FMTTYPE="image/jpeg":http://storage.ning.com/topology/rest/1.0/
 file/get/1083766076?profile=original
ATTENDEE;ROLE=REQ-PARTICIPANT;PARTSTAT=ACCEPTED;RSVP=TRUE;CN="Matthew 
 Kahler":http://worldofwiffledust.com/profile/matthewkahler
ATTENDEE;ROLE=REQ-PARTICIPANT;PARTSTAT=TENTATIVE;RSVP=TRUE;CN="margare
 t kraft":http://worldofwiffledust.com/profile/margaretkraft
END:VEVENT
END:VCALENDAR
