BEGIN:VCALENDAR
PRODID:NingEventWidget-v1
VERSION:2.0
METHOD:PUBLISH
BEGIN:VEVENT
UID:2870411:Event:85871
DTSTAMP:20260420T032510Z
SUMMARY:Matthew Kahler w/ Callaghan at Eddie's Attic
DESCRIPTION:Matthew Kahler will start the evening out at Eddie's Attic
  on January 7th, and then Callaghan will be performing. She's a dynami
 c new singer songwriter who is getting rave reviews, and you're going 
 to want to come out for this great evening of music!\n\nFor more infor
 mation visit http://worldofwiffledust.com/events/matthew-kahler-w-call
 aghan-at-eddie-s-attic
DTSTART:20120108T000000Z
DTEND:20120108T040000Z
CATEGORIES:performance, listening, space
LOCATION:Eddie's Attic
WEBSITE:http://www.eddiesattic.com
URL:http://www.eddiesattic.com
CONTACT:404-377-4976
ORGANIZER;CN="Matthew Kahler":http://worldofwiffledust.com/profile/mat
 thewkahler
ATTACH;FMTTYPE="image/jpeg":http://storage.ning.com/topology/rest/1.0/
 file/get/1083769519?profile=original
ATTENDEE;ROLE=REQ-PARTICIPANT;PARTSTAT=ACCEPTED;RSVP=TRUE;CN="Matthew 
 Kahler":http://worldofwiffledust.com/profile/matthewkahler
END:VEVENT
END:VCALENDAR
