BEGIN:VCALENDAR
PRODID:NingEventWidget-v1
VERSION:2.0
METHOD:PUBLISH
BEGIN:VEVENT
UID:2870411:Event:89614
DTSTAMP:20260419T135858Z
SUMMARY:Matthew Kahler-Private Party
DESCRIPTION:Private Concert\n\nFor more information visit http://world
 ofwiffledust.com/events/matthew-kahler-private-party
DTSTART:20120324T230000Z
DTEND:20120325T020000Z
CATEGORIES:private, party
LOCATION:Atlanta Metro
WEBSITE:
URL:
CONTACT:
ORGANIZER;CN="Matthew Kahler":http://worldofwiffledust.com/profile/mat
 thewkahler
ATTACH;FMTTYPE="image/jpeg":http://storage.ning.com/topology/rest/1.0/
 file/get/1083767649?profile=original
ATTENDEE;ROLE=REQ-PARTICIPANT;PARTSTAT=ACCEPTED;RSVP=TRUE;CN="Matthew 
 Kahler":http://worldofwiffledust.com/profile/matthewkahler
END:VEVENT
END:VCALENDAR
