BEGIN:VCALENDAR
PRODID:NingEventWidget-v1
VERSION:2.0
METHOD:PUBLISH
BEGIN:VEVENT
UID:2870411:Event:59924
DTSTAMP:20260419T164611Z
SUMMARY:matthew kahler concert at blueridge cabin series
DESCRIPTION:matthew kahler is playing a concert in blueridge, ga. it's
  called blueridge cabin concert series. for folks in georgia, you will
  find the cabin at: 8366 aska rd. blueridge, ga. 30513.\n\nFor more in
 formation visit http://worldofwiffledust.com/events/matthew-kahler-con
 cert-at
DTSTART:20110626T000000Z
DTEND:20110626T030000Z
CATEGORIES:concert
LOCATION:blueridge ga.
WEBSITE:
URL:
CONTACT:
ORGANIZER;CN="Matthew Kahler":http://worldofwiffledust.com/profile/mat
 thewkahler
ATTACH;FMTTYPE="image/jpeg":http://storage.ning.com/topology/rest/1.0/
 file/get/1083767202?profile=original
ATTENDEE;ROLE=REQ-PARTICIPANT;PARTSTAT=ACCEPTED;RSVP=TRUE;CN="Maryrose
  Orlans":http://worldofwiffledust.com/profile/MaryroseOrlans
ATTENDEE;ROLE=REQ-PARTICIPANT;PARTSTAT=ACCEPTED;RSVP=TRUE;CN=wiffledus
 t:http://worldofwiffledust.com/profile/wiffledust
ATTENDEE;ROLE=REQ-PARTICIPANT;PARTSTAT=ACCEPTED;RSVP=TRUE;CN="Matthew 
 Kahler":http://worldofwiffledust.com/profile/matthewkahler
END:VEVENT
END:VCALENDAR
