BEGIN:VCALENDAR
PRODID:NingEventWidget-v1
VERSION:2.0
METHOD:PUBLISH
BEGIN:VEVENT
UID:2870411:Event:66837
DTSTAMP:20260419T151848Z
SUMMARY:Matthew Kahler Concert at the Grossman's
DESCRIPTION:Concert at The Grossman's with Michael Levine and Matthew 
 Smith. Contact rsvp at bet_tov@bellsouth.net or\nor heleengrossman@bel
 lsouth.net for tickets. Seating is limited. 8pm to 11pm, suggested don
 ation is $10.\n\nFor more information visit http://worldofwiffledust.c
 om/events/matthew-kahler-concert-at-the
DTSTART:20110814T000000Z
DTEND:20110814T030000Z
CATEGORIES:intimate, concert
LOCATION:The Grossman's, Atlanta
WEBSITE:
URL:
CONTACT:
ORGANIZER:The Grossman's
ATTACH;FMTTYPE="image/jpeg":http://storage.ning.com/topology/rest/1.0/
 file/get/1083763238?profile=original
ATTENDEE;ROLE=REQ-PARTICIPANT;PARTSTAT=ACCEPTED;RSVP=TRUE;CN="Matthew 
 Kahler":http://worldofwiffledust.com/profile/matthewkahler
END:VEVENT
END:VCALENDAR
