BEGIN:VCALENDAR
PRODID:NingEventWidget-v1
VERSION:2.0
METHOD:PUBLISH
BEGIN:VEVENT
UID:2870411:Event:94563
DTSTAMP:20260419T135612Z
SUMMARY:Matthew Kahler at The Loft Anniversary  Party
DESCRIPTION:Matthew Kahler is joining the Anniversary Party of The Lof
 t in Columbus, Georgia on June 2nd. C'mon out and celebrate the annive
 rsary of such a great musical place. All day, free of charge.\n\nFor m
 ore information visit http://worldofwiffledust.com/events/matthew-kahl
 er-at-the-loft-anniversary-party
DTSTART:20120602T180000Z
DTEND:20120603T020000Z
CATEGORIES:anniversary, party
LOCATION:The Loft Columbus Georgia
WEBSITE:http://theloft.com
URL:http://theloft.com
CONTACT:706-596-8141
ORGANIZER;CN="Matthew Kahler":http://worldofwiffledust.com/profile/mat
 thewkahler
ATTACH;FMTTYPE="image/jpeg":http://storage.ning.com/topology/rest/1.0/
 file/get/1083774139?profile=original
ATTENDEE;ROLE=REQ-PARTICIPANT;PARTSTAT=ACCEPTED;RSVP=TRUE;CN="Matthew 
 Kahler":http://worldofwiffledust.com/profile/matthewkahler
END:VEVENT
END:VCALENDAR
