BEGIN:VCALENDAR
PRODID:NingEventWidget-v1
VERSION:2.0
METHOD:PUBLISH
BEGIN:VEVENT
UID:2870411:Event:66555
DTSTAMP:20260419T151722Z
SUMMARY:Matthew Kahler at The Blind Mule, Mobile Alabama
DESCRIPTION:An evening of Matthew's music at The Blind Mule down in Mo
 bile.  C'mon out!\n\nFor more information visit http://worldofwiffled
 ust.com/events/matthew-kahler-at-the-blind
DTSTART:20110806T000000Z
DTEND:20110806T020000Z
CATEGORIES:performance
LOCATION:Mobile, Alabama
WEBSITE:
URL:
CONTACT:251-694-6853
ORGANIZER;CN="Matthew Kahler":http://worldofwiffledust.com/profile/mat
 thewkahler
ATTACH;FMTTYPE="image/jpeg":http://storage.ning.com/topology/rest/1.0/
 file/get/1083766284?profile=original
ATTENDEE;ROLE=REQ-PARTICIPANT;PARTSTAT=ACCEPTED;RSVP=TRUE;CN="Matthew 
 Kahler":http://worldofwiffledust.com/profile/matthewkahler
END:VEVENT
END:VCALENDAR
