BEGIN:VCALENDAR
PRODID:NingEventWidget-v1
VERSION:2.0
METHOD:PUBLISH
BEGIN:VEVENT
UID:2870411:Event:86147
DTSTAMP:20260420T002509Z
SUMMARY:Matthew Kahler at the 3rd Annual 30A Songwriters Festival!
DESCRIPTION:Matthew Kahler is among these terrific artists playing at 
 the 3rd Annual 30A Songwriters Festival January 13-15 2012 along the w
 hite sand beaches of Florida's Gulf Coast in South Walton!.....\nThe 2
 012 line-up features nationally-acclaimed songwriters and musicians in
 cluding The  Bangles, Rodney Crowell, Shawn Mullins, Matthew Sweet, In
 digo Girls and Fastball as well as David  Wilcox, Steve Forbert, Mary 
 Gauthier, Sam Bush Band, Randall Bramblett, Tommy Talton, Jeffrey Stee
 le,  Chely Wright, Chuck Cannon, Tim Nichols,  Corey Smith, David Oln
 ey, Davin McCoy, Lori McKenna,  Tommy Womack, Kevn Kinney, The Shadowb
 oxers, Larkin Poe, Emily Lynch, Joseph Arthur, Matthew  Mayfield, Rach
 el Platten, Callaghan, David Berkeley,  Garrison Starr, Jeff Black, J
 oe Leathers, Ben Glover,  Billy Montana, Chas Sanford, Brian and Karyn
  White, Greg Barnhill, Forrest Williams Band, Kyle Jacobs,  Kelsey Ann
 a, Reed Waddle, Meg Hutchinson, Brigitte DeMeyer, Daphne Willis, Shann
 on Whitworth, Suzi  Ragsdale, Georgia, Ashleigh Flynn, Joanna Cotton, 
 Matthew Kahler, Over The Rhine (Karin Bergquist &  Linford Detweiler),
  Bryan Kennedy, Nicole Witt, Granville Automatic, Angel Snow, Chatham 
 Street, Deux, Birds, Jesse Terry, Michael Witty, Sterling Fletcher, Th
 e Tall Pines and over 75 more.\n\nFor more information visit http://wo
 rldofwiffledust.com/events/matthew-kahler-at-the-3rd-annual-30a-songwr
 iters-festival
DTSTART:20120113T050000Z
DTEND:20120116T045900Z
CATEGORIES:multi, venue, festival
LOCATION:South Walton, Florida
WEBSITE:http://www.30asongwritersfestival.com
URL:http://www.30asongwritersfestival.com
CONTACT:
ORGANIZER;CN="Matthew Kahler":http://worldofwiffledust.com/profile/mat
 thewkahler
ATTACH;FMTTYPE="image/jpeg":http://storage.ning.com/topology/rest/1.0/
 file/get/1083769412?profile=original
ATTENDEE;ROLE=REQ-PARTICIPANT;PARTSTAT=ACCEPTED;RSVP=TRUE;CN="Matthew 
 Kahler":http://worldofwiffledust.com/profile/matthewkahler
END:VEVENT
END:VCALENDAR
