BEGIN:VCALENDAR
PRODID:NingEventWidget-v1
VERSION:2.0
METHOD:PUBLISH
BEGIN:VEVENT
UID:2870411:Event:94527
DTSTAMP:20260419T151935Z
SUMMARY:Matthew Kahler at Steve's Live Music
DESCRIPTION:Matthew Kahler at Steve's Live Music in Sandy Springs, Geo
 rgia. Michael Levine and Matthew Smith opening up.\n\nFor more informa
 tion visit http://worldofwiffledust.com/events/matthew-kahler-at-steve
 -s-live-music
DTSTART:20120617T000000Z
DTEND:20120617T023000Z
CATEGORIES:listening, space
LOCATION:Sandy Springs, Georgia
WEBSITE:http://steveslivemusic.com/
URL:http://steveslivemusic.com/
CONTACT:
ORGANIZER;CN="Matthew Kahler":http://worldofwiffledust.com/profile/mat
 thewkahler
ATTACH;FMTTYPE="image/jpeg":http://storage.ning.com/topology/rest/1.0/
 file/get/1083775240?profile=original
ATTENDEE;ROLE=REQ-PARTICIPANT;PARTSTAT=ACCEPTED;RSVP=TRUE;CN=wiffledus
 t:http://worldofwiffledust.com/profile/wiffledust
ATTENDEE;ROLE=REQ-PARTICIPANT;PARTSTAT=ACCEPTED;RSVP=TRUE;CN="Matthew 
 Kahler":http://worldofwiffledust.com/profile/matthewkahler
END:VEVENT
END:VCALENDAR
