BEGIN:VCALENDAR
PRODID:NingEventWidget-v1
VERSION:2.0
METHOD:PUBLISH
BEGIN:VEVENT
UID:2870411:Event:69132
DTSTAMP:20260419T164734Z
SUMMARY:Matthew Kahler at S.N.A.F.U. at Serafino's Restaurant in Ellic
 ott City, Maryland
DESCRIPTION:Matthew Kahler will be performing in the round at S.N.A.F.
 U. on Sunday, August 21st at 7pm. The location is:\nSerafino's Restaur
 ant 3419 Plum Tree Drive Ellicott City, Maryland 21042\n\nFor more inf
 ormation visit http://worldofwiffledust.com/events/matthew-kahler-at-s
 -n-a-f-u
DTSTART:20110821T230000Z
DTEND:20110822T020000Z
CATEGORIES:performance, listening, setting
LOCATION:Serafino's Restaurant, Ellicott City Maryland
WEBSITE:
URL:
CONTACT:410-465-7775
ORGANIZER:S.N.A.F.U.
ATTACH;FMTTYPE="image/jpeg":http://storage.ning.com/topology/rest/1.0/
 file/get/1083765357?profile=original
ATTENDEE;ROLE=REQ-PARTICIPANT;PARTSTAT=ACCEPTED;RSVP=TRUE;CN="Matthew 
 Kahler":http://worldofwiffledust.com/profile/matthewkahler
END:VEVENT
END:VCALENDAR
