BEGIN:VCALENDAR
PRODID:NingEventWidget-v1
VERSION:2.0
METHOD:PUBLISH
BEGIN:VEVENT
UID:2870411:Event:105696
DTSTAMP:20260421T132638Z
SUMMARY:Matthew Kahler at M.A.D. Studios Augusta, Georgia
DESCRIPTION:Matthew Kahler performs this Saturday night at M.A.D. Stud
 ios in Augusta, Georgia. Josh Pierce opens. 7pm. Call \n(706) 836-568
 3 for more info. \n\nFor more information visit http://worldofwiffled
 ust.com/events/matthew-kahler-at-m-a-d-studios-augusta-georgia
DTSTART:20130113T000000Z
DTEND:20130113T030000Z
CATEGORIES:listening, space
LOCATION:M.A.D. Studios, Augusta GA
WEBSITE:
URL:
CONTACT:(706) 836-5683
ORGANIZER:Matthew Kahler and M.A.D. Studios
ATTACH;FMTTYPE="image/jpeg":http://storage.ning.com/topology/rest/1.0/
 file/get/1083778524?profile=original
ATTENDEE;ROLE=REQ-PARTICIPANT;PARTSTAT=ACCEPTED;RSVP=TRUE;CN=wiffledus
 t:http://worldofwiffledust.com/profile/wiffledust
ATTENDEE;ROLE=REQ-PARTICIPANT;PARTSTAT=ACCEPTED;RSVP=TRUE;CN="Matthew 
 Kahler":http://worldofwiffledust.com/profile/matthewkahler
END:VEVENT
END:VCALENDAR
