BEGIN:VCALENDAR
PRODID:NingEventWidget-v1
VERSION:2.0
METHOD:PUBLISH
BEGIN:VEVENT
UID:2870411:Event:66593
DTSTAMP:20260419T151750Z
SUMMARY:Matthew Kahler at Folk at the Cannery
DESCRIPTION:This is an intimate setting in the beautiful library of Da
 taw Island, South Carolina. Please contact Folk at the Cannery, Matthe
 w, or Lisa for more information if you would like to attend.\n\nFor mo
 re information visit http://worldofwiffledust.com/events/matthew-kahle
 r-at-folk-at-the
DTSTART:20120312T230000Z
DTEND:20120313T020000Z
CATEGORIES:listening, room
LOCATION:Dataw Island, South Carolina
WEBSITE:
URL:
CONTACT:contact Matthew or Lisa for more information
ORGANIZER;CN="Matthew Kahler":http://worldofwiffledust.com/profile/mat
 thewkahler
ATTACH;FMTTYPE="image/jpeg":http://storage.ning.com/topology/rest/1.0/
 file/get/1083766414?profile=original
ATTENDEE;ROLE=REQ-PARTICIPANT;PARTSTAT=ACCEPTED;RSVP=TRUE;CN="Matthew 
 Kahler":http://worldofwiffledust.com/profile/matthewkahler
END:VEVENT
END:VCALENDAR
