BEGIN:VCALENDAR
PRODID:NingEventWidget-v1
VERSION:2.0
METHOD:PUBLISH
BEGIN:VEVENT
UID:2870411:Event:75955
DTSTAMP:20260420T045814Z
SUMMARY:Matthew Kahler at Eddie's Attic in the Round with Heather Lutt
 rell and Callaghan
DESCRIPTION:Matthew Kahler will be playing in the round with two talen
 ted women...Heather Luttrell and Callaghan at Eddie's Attic in Decatur
 , Georgia September 21st at 8pm. Come out and have a great time!\n\nFo
 r more information visit http://worldofwiffledust.com/events/matthew-k
 ahler-at-eddie-s-attic-in-the-round-with-heather
DTSTART:20110922T000000Z
DTEND:20110922T030000Z
CATEGORIES:in, the, round, performance
LOCATION:Eddie's Attic
WEBSITE:http://www.eddiesattic.com
URL:http://www.eddiesattic.com
CONTACT:404-377-4976
ORGANIZER;CN="Matthew Kahler":http://worldofwiffledust.com/profile/mat
 thewkahler
ATTACH;FMTTYPE="image/jpeg":http://storage.ning.com/topology/rest/1.0/
 file/get/1083764383?profile=original
ATTENDEE;ROLE=REQ-PARTICIPANT;PARTSTAT=ACCEPTED;RSVP=TRUE;CN="Matthew 
 Kahler":http://worldofwiffledust.com/profile/matthewkahler
END:VEVENT
END:VCALENDAR
