BEGIN:VCALENDAR
PRODID:NingEventWidget-v1
VERSION:2.0
METHOD:PUBLISH
BEGIN:VEVENT
UID:2870411:Event:106313
DTSTAMP:20260421T101144Z
SUMMARY:Matthew Kahler at Charles and Myrtles' in Chattanooga
DESCRIPTION:Matthew Kahler will be sharing an evening of music at the 
 Charles and Myrtle's Coffeehouse inside of Christ Unity Church in Chat
 tanooga, Tennessee. Come out and have some fun! \n\nFor more informat
 ion visit http://worldofwiffledust.com/events/matthew-kahler-at-charle
 s-and-myrtles-in-chattanooga
DTSTART:20130203T010000Z
DTEND:20130203T030000Z
CATEGORIES:listenr, space
LOCATION:Charles and Myrtle's at Christ Unity Church
WEBSITE:
URL:
CONTACT:432-892-4960
ORGANIZER:Matthew Kahler and Charles and Myrtle's
ATTACH;FMTTYPE="image/jpeg":http://storage.ning.com/topology/rest/1.0/
 file/get/1083778064?profile=original
ATTENDEE;ROLE=REQ-PARTICIPANT;PARTSTAT=ACCEPTED;RSVP=TRUE;CN=wiffledus
 t:http://worldofwiffledust.com/profile/wiffledust
ATTENDEE;ROLE=REQ-PARTICIPANT;PARTSTAT=ACCEPTED;RSVP=TRUE;CN="Matthew 
 Kahler":http://worldofwiffledust.com/profile/matthewkahler
END:VEVENT
END:VCALENDAR
