BEGIN:VCALENDAR
PRODID:NingEventWidget-v1
VERSION:2.0
METHOD:PUBLISH
BEGIN:VEVENT
UID:2870411:Event:91007
DTSTAMP:20260419T194706Z
SUMMARY:Matthew Kahler and Eliot Bronson Feb 10th at Eddie's!
DESCRIPTION:Matthew Kahler and Eliot Bronson will be together at Eddie
 's Attic on February 10th for a great night of music. Both men are sup
 er songwriters and a great sense of fun as well. Come on out for a goo
 d time!\nhttp://www.eddiesattic.com\nhttp://www.matthewkahler.net\nhtt
 p://www.eliotbronson.com\n\nFor more information visit http://worldofw
 iffledust.com/events/matthew-kahler-and-eliot-bronson-feb-10th-at-eddi
 e-s
DTSTART:20120211T010000Z
DTEND:20120211T040000Z
CATEGORIES:performance, listening, space
LOCATION:Eddie's Attic
WEBSITE:http://www.eddiesattic.com
URL:http://www.eddiesattic.com
CONTACT:404-377-4976
ORGANIZER;CN="Matthew Kahler":http://worldofwiffledust.com/profile/mat
 thewkahler
ATTACH;FMTTYPE="image/jpeg":http://storage.ning.com/topology/rest/1.0/
 file/get/1083770949?profile=original
ATTENDEE;ROLE=REQ-PARTICIPANT;PARTSTAT=ACCEPTED;RSVP=TRUE;CN="Matthew 
 Kahler":http://worldofwiffledust.com/profile/matthewkahler
END:VEVENT
END:VCALENDAR
