BEGIN:VCALENDAR
PRODID:NingEventWidget-v1
VERSION:2.0
METHOD:PUBLISH
BEGIN:VEVENT
UID:2870411:Event:3112
DTSTAMP:20260420T162335Z
SUMMARY:LOGAN INN TONITE!  NOV 12...
DESCRIPTION:well...LIVE MUSIC!\nSOLO on piano, guitar, vocals\n\nFor m
 ore information visit http://worldofwiffledust.com/events/logan-inn-to
 nite-nov-12
DTSTART:20091113T000000Z
DTEND:20091113T040000Z
CATEGORIES:thursday, nite, show
LOCATION:Logan Inn
WEBSITE:http://loganinn.com
URL:http://loganinn.com
CONTACT:215 862 2300
ORGANIZER;CN="stephen dijoseph":http://worldofwiffledust.com/profile/s
 tephendijoseph303
ATTACH;FMTTYPE="image/jpeg":http://storage.ning.com/topology/rest/1.0/
 file/get/1083754479?profile=original
ATTENDEE;ROLE=REQ-PARTICIPANT;PARTSTAT=ACCEPTED;RSVP=TRUE;CN="stephen 
 dijoseph":http://worldofwiffledust.com/profile/stephendijoseph303
END:VEVENT
END:VCALENDAR
