BEGIN:VCALENDAR
PRODID:NingEventWidget-v1
VERSION:2.0
METHOD:PUBLISH
BEGIN:VEVENT
UID:2870411:Event:2552
DTSTAMP:20260420T175514Z
SUMMARY:Lissa Schneckenburger Band w/ Ari and Mia Friedman
DESCRIPTION:LISSA SCHNECKENBURGER\nNew England Fiddler and Folk Singer
 \nhttp://www.lissafiddle.com\n\n\"World class fiddler... far from just
  offering one dance tune after another, simple settings allow the true
  beauty of the music to shine through\" - Sing Out\nAccompanying Lissa
 : Bethany Waickman (guitar).\n\nOpening: ARI & MIA FRIEDMAN\nhttp://ww
 w.ariandmiafriedman.com/\n\n\"...adventurous and lyrical... They have 
 a unique style and approach, engaging original compositions... [Their 
 CD] is a strong first impression for the Friedman sisters.\"\n- Dirty 
 Linen Magazine\n\nDoors 7:45pm\n\nSuggested minimum donation $12\n\nht
 tp://notlobmusic.googlepages.com\n\nFor more information visit http://
 worldofwiffledust.com/events/lissa-schneckenburger-band-w
DTSTART:20091107T010000Z
DTEND:20091107T040000Z
CATEGORIES:concert
LOCATION:Unity Church
WEBSITE:http://maps.google.com/maps?f=q&source=s_q&hl=en&geocode=&q=6+
 William+St,+Somerville,+MA+02144&sll=42.4437,-71.6223&sspn=0.005685,0.
 013797&ie=UTF8&hq=&hnear=6+William+St,+Somerville,+Middlesex,+Massachu
 setts+02144&z=15
URL:http://maps.google.com/maps?f=q&source=s_q&hl=en&geocode=&q=6+Will
 iam+St,+Somerville,+MA+02144&sll=42.4437,-71.6223&sspn=0.005685,0.0137
 97&ie=UTF8&hq=&hnear=6+William+St,+Somerville,+Middlesex,+Massachusett
 s+02144&z=15
CONTACT:
ORGANIZER;CN="Jeff Boudreau":http://worldofwiffledust.com/profile/Jeff
 Boudreau
ATTACH;FMTTYPE="image/jpeg":http://storage.ning.com/topology/rest/1.0/
 file/get/1083755437?profile=original
ATTENDEE;ROLE=REQ-PARTICIPANT;PARTSTAT=ACCEPTED;RSVP=TRUE;CN="Jeff Bou
 dreau":http://worldofwiffledust.com/profile/JeffBoudreau
END:VEVENT
END:VCALENDAR
