BEGIN:VCALENDAR
PRODID:NingEventWidget-v1
VERSION:2.0
METHOD:PUBLISH
BEGIN:VEVENT
UID:2870411:Event:98304
DTSTAMP:20260421T084428Z
SUMMARY:Joe stummer Birthday Beach Party 2013
DESCRIPTION: \n     fun on a mountain lake. Celebrate Joe Strumme
 r's Birthday . Free. bring a picnic lunch.  Acoustic instruments are 
 welcome.\n\nFor more information visit http://worldofwiffledust.com/ev
 ents/joe-stummer-birthday-beach-party-2013
DTSTART:20130817T160000Z
DTEND:20130817T230000Z
CATEGORIES:beach, party, for, joe, "strummer's", birthday
LOCATION:Joe's Pond, Public Beach
WEBSITE:http://maps.google.com/maps?q=Joes+Pond,+VT&hl=en&sll=41.11793
 5,-77.604698&sspn=4.518569,9.876709&oq=Joes+Pond+&hnear=Joes+Pond&t=m&
 z=14
URL:http://maps.google.com/maps?q=Joes+Pond,+VT&hl=en&sll=41.117935,-7
 7.604698&sspn=4.518569,9.876709&oq=Joes+Pond+&hnear=Joes+Pond&t=m&z=14
CONTACT:will enter phone # later
ORGANIZER;CN="Brenda Siegelman":http://worldofwiffledust.com/profile/B
 rendaSiegelman
ATTACH;FMTTYPE="image/jpeg":http://storage.ning.com/topology/rest/1.0/
 file/get/1083778375?profile=original
ATTENDEE;ROLE=REQ-PARTICIPANT;PARTSTAT=ACCEPTED;RSVP=TRUE;CN="Brenda S
 iegelman":http://worldofwiffledust.com/profile/BrendaSiegelman
ATTENDEE;ROLE=REQ-PARTICIPANT;PARTSTAT=ACCEPTED;RSVP=TRUE;CN=MaxEquati
 ons:http://worldofwiffledust.com/profile/MaxEquations
END:VEVENT
END:VCALENDAR
