BEGIN:VCALENDAR
PRODID:NingEventWidget-v1
VERSION:2.0
METHOD:PUBLISH
BEGIN:VEVENT
UID:2870411:Event:19227
DTSTAMP:20260419T194534Z
SUMMARY:House Concert With: VIRTUOUS ROGUES!
DESCRIPTION:Hello Music Lovers!\n\nIt is our pleasure to host another 
 rockin' house concert on behalf of the Philadelphia Folksong Society, 
 featuring Stephe Ferraro & Bud Burroughs (of Boris Garcia) John B. Aus
 tin & Gary Baumeister (of the John B. Austin Band) Joel Hornikel & Lar
 ry Fornacci (of The Planets) and the Amazing finger-style guitar work 
 of Rich Dru...eding performing Bootleg Roots, Rock and Americana with 
 a Heavy Dose of Jam.\n\nThe show is free to PFS members and $15.00 for
  non-members - payable at the door. Please bring a dish to share as we
 ll as this will be a veritable potluck feast!\n\nAlso, please reserve 
 your spot by contacting PFS directly via the link embedded herein:\n\n
 http://www.pfs.org/PFS.php\nOr, by calling the office @ 215-247-1300.\
 n\nHope you can join us for this unforgettably wonderful event!!!\n\nF
 or more information visit http://worldofwiffledust.com/events/house-co
 ncert-with-virtuous
DTSTART:20101002T230000Z
DTEND:20101003T040000Z
CATEGORIES:house, concert
LOCATION:Home of Colleen Finnegan & Bruce Gross
WEBSITE:http://maps.google.com/maps?f=s&utm_campaign=en&utm_source=en-
 ha-na-us-bk-gm&utm_medium=ha&utm_term=GoogleMaps
URL:http://maps.google.com/maps?f=s&utm_campaign=en&utm_source=en-ha-n
 a-us-bk-gm&utm_medium=ha&utm_term=GoogleMaps
CONTACT:(215) 491-3024
ORGANIZER;CN="Colleen Finnegan Gross":http://worldofwiffledust.com/pro
 file/ColleenFinneganGross
ATTACH;FMTTYPE="image/jpeg":http://storage.ning.com/topology/rest/1.0/
 file/get/1083759094?profile=original
ATTENDEE;ROLE=REQ-PARTICIPANT;PARTSTAT=ACCEPTED;RSVP=TRUE;CN="Colleen 
 Finnegan Gross":http://worldofwiffledust.com/profile/ColleenFinneganGr
 oss
END:VEVENT
END:VCALENDAR
