BEGIN:VCALENDAR
PRODID:NingEventWidget-v1
VERSION:2.0
METHOD:PUBLISH
BEGIN:VEVENT
UID:2870411:Event:5189
DTSTAMP:20260420T073859Z
SUMMARY:Gypsy Jazz House concert Sun. Jan 24
DESCRIPTION:Announcing a fab house concert and rare opportunity to see
  a virtuoso gtpsy jazz guitarist\n\nDate: Sunday, January 24, 2010\nTi
 me: 6:00pm - 8:00pm\nLocation: 221 W Upsal St Phila., PA 19119\n\nGyps
 yJazz house concert with Sherry Canary & the Kool Kats,( my group) fea
 turing special guest artist Shepp from Ameranouche. This is a rare eve
 nt to see him in Philly!! And it will be an experience!\n\nTo hear She
 pp's music, visit his website at www.ameranouche.com.\n\nSuggested don
 ation is $10, but this is a free will offering. Please bring some snac
 ks or beverages to share, if you can.\nThere will be a jam afterward\n
 \nFor more information visit http://worldofwiffledust.com/events/gypsy
 -jazz-house-concert-sun
DTSTART:20100124T230000Z
DTEND:20100125T010000Z
CATEGORIES:music, concert, and, gypsy, jazz, jam
LOCATION:Upsal Castle House Concert series
WEBSITE:http://www.ameranouche.com   for Kool Kats:http://www.youtube.
 com/watch?v=O43oCqjoTRA
URL:http://www.ameranouche.com   for Kool Kats:http://www.youtube.com/
 watch?v=O43oCqjoTRA
CONTACT:215 514-2413
ORGANIZER;CN="Sherry Somach":http://worldofwiffledust.com/profile/Sher
 rySomach
ATTACH;FMTTYPE="image/jpeg":
ATTENDEE;ROLE=REQ-PARTICIPANT;PARTSTAT=ACCEPTED;RSVP=TRUE;CN="Sherry S
 omach":http://worldofwiffledust.com/profile/SherrySomach
END:VEVENT
END:VCALENDAR
