BEGIN:VCALENDAR
PRODID:NingEventWidget-v1
VERSION:2.0
METHOD:PUBLISH
BEGIN:VEVENT
UID:2870411:Event:89515
DTSTAMP:20260419T164322Z
SUMMARY:Exciting Event Coming Soon!
DESCRIPTION:More info coming soon...keep your eyes on this space!\n\nF
 or more information visit http://worldofwiffledust.com/events/exciting
 -event-coming-soon
DTSTART:20120226T010000Z
DTEND:20120226T040000Z
CATEGORIES:listening, space, performance
LOCATION:Atlanta
WEBSITE:
URL:
CONTACT:
ORGANIZER;CN="Matthew Kahler":http://worldofwiffledust.com/profile/mat
 thewkahler
ATTACH;FMTTYPE="image/jpeg":http://storage.ning.com/topology/rest/1.0/
 file/get/1083768589?profile=original
ATTENDEE;ROLE=REQ-PARTICIPANT;PARTSTAT=ACCEPTED;RSVP=TRUE;CN="Matthew 
 Kahler":http://worldofwiffledust.com/profile/matthewkahler
END:VEVENT
END:VCALENDAR
