BEGIN:VCALENDAR
PRODID:NingEventWidget-v1
VERSION:2.0
METHOD:PUBLISH
BEGIN:VEVENT
UID:2870411:Event:89798
DTSTAMP:20260419T211248Z
SUMMARY:Downstairs LIve! w/ Kevin Rowe-SOLD OUT but Live Streaming!
DESCRIPTION:starting out the night with Kevin Rowe...SOLD OUT, Sorry! 
 This event will have live streaming. To see it live get infor from thi
 s link...http://www.stageit.com/DownstairsLive\n\nFor more information
  visit http://worldofwiffledust.com/events/downstairs-live-w-kevin-row
 e-sold-out
DTSTART:20120205T000000Z
DTEND:20120205T040000Z
CATEGORIES:listening, space
LOCATION:Downstairs Live
WEBSITE:http://www.downstairslive.com
URL:http://www.downstairslive.com
CONTACT:.mrchuck101@yahoo.com
ORGANIZER;CN="Matthew Kahler":http://worldofwiffledust.com/profile/mat
 thewkahler
ATTACH;FMTTYPE="image/jpeg":http://storage.ning.com/topology/rest/1.0/
 file/get/1083769699?profile=original
ATTENDEE;ROLE=REQ-PARTICIPANT;PARTSTAT=ACCEPTED;RSVP=TRUE;CN="Matthew 
 Kahler":http://worldofwiffledust.com/profile/matthewkahler
END:VEVENT
END:VCALENDAR
