BEGIN:VCALENDAR
PRODID:NingEventWidget-v1
VERSION:2.0
METHOD:PUBLISH
BEGIN:VEVENT
UID:2870411:Event:542
DTSTAMP:20260421T045355Z
SUMMARY:donna
DESCRIPTION:at the whitehouse\n\nFor more information visit http://wor
 ldofwiffledust.com/events/donna-1
DTSTART:20090529T221500Z
DTEND:20090529T230000Z
CATEGORIES:singing
LOCATION:washington dc
WEBSITE:
URL:
CONTACT:
ORGANIZER;CN=wiffledust:http://worldofwiffledust.com/profile/wiffledus
 t
ATTACH;FMTTYPE="image/jpeg":
ATTENDEE;ROLE=REQ-PARTICIPANT;PARTSTAT=ACCEPTED;RSVP=TRUE;CN=wiffledus
 t:http://worldofwiffledust.com/profile/wiffledust
END:VEVENT
END:VCALENDAR
