BEGIN:VCALENDAR
PRODID:NingEventWidget-v1
VERSION:2.0
METHOD:PUBLISH
BEGIN:VEVENT
UID:2870411:Event:88846
DTSTAMP:20260419T224654Z
SUMMARY:co-bill Matthew Kahler and Erick Baker at The Crimson Moon
DESCRIPTION:Matthew Kahler and Erick Baker will co-bill an evening of 
 terrific singing and songwriting at The Crimson Moon in Dahlonega Geor
 gia! Friday January 27th.\n\nFor more information visit http://worldof
 wiffledust.com/events/co-bill-matthew-kahler-and-erick-baker-at-the-cr
 imson-moon
DTSTART:20120128T003000Z
DTEND:20120128T033000Z
CATEGORIES:listening, room
LOCATION:The Crimson Moon Cafe
WEBSITE:http://www.thecrimsonmoon.com
URL:http://www.thecrimsonmoon.com
CONTACT:706-864-3982
ORGANIZER;CN="Matthew Kahler":http://worldofwiffledust.com/profile/mat
 thewkahler
ATTACH;FMTTYPE="image/jpeg":http://storage.ning.com/topology/rest/1.0/
 file/get/1083767724?profile=original
ATTENDEE;ROLE=REQ-PARTICIPANT;PARTSTAT=ACCEPTED;RSVP=TRUE;CN="Matthew 
 Kahler":http://worldofwiffledust.com/profile/matthewkahler
END:VEVENT
END:VCALENDAR
