BEGIN:VCALENDAR
PRODID:NingEventWidget-v1
VERSION:2.0
METHOD:PUBLISH
BEGIN:VEVENT
UID:2870411:Event:4733
DTSTAMP:20260420T092222Z
SUMMARY:Chaplin's The Music Cafe
DESCRIPTION:Will Knox opening\nTickets $15.00 in advance or at the doo
 r\nBYOB - $3.00 fee\nAll Ages venue\n\nAbout Chaplin's.....\n\nChaplin
 ’s the Music Café is an intimate listening room, offering the very 
 best in local and regional music that we can find, to the community. T
 o be successful, we need the support of performers that can attract th
 eir fans to Chaplin’s, along with the support of local music lovers.
  In addition, we reach out to others who are willing to support the ar
 ts, and help us to offer the shows that we can, through their generosi
 ty.\n\nFor more information visit http://worldofwiffledust.com/events/
 chaplins-the-music-cafe
DTSTART:20100110T010000Z
DTEND:20100110T040000Z
CATEGORIES:live, music, show
LOCATION:Chaplin's, The Music Cafe
WEBSITE:http://www.chaplinsthemusiccafe.com/
URL:http://www.chaplinsthemusiccafe.com/
CONTACT:610-792-4110
ORGANIZER:
ATTACH;FMTTYPE="image/jpeg":
ATTENDEE;ROLE=REQ-PARTICIPANT;PARTSTAT=ACCEPTED;RSVP=TRUE;CN="Liz  Lon
 gley":http://worldofwiffledust.com/profile/LizLongley
END:VEVENT
END:VCALENDAR
