BEGIN:VCALENDAR
PRODID:NingEventWidget-v1
VERSION:2.0
METHOD:PUBLISH
BEGIN:VEVENT
UID:2870411:Event:94403
DTSTAMP:20260419T152053Z
SUMMARY:Callagahn Full Band Show/Matthew Kahler Supporting at the Red 
 Clay Theater
DESCRIPTION:Callaghan is playing a Full Band Show with the members of 
 Shawn Mullins Band, and Matthew Kahler will be starting the night. Thi
 s is going to be a full on great holiday big show! C'mon out to The Re
 d Clay Theater in Duluth and see what  Eddie Owen Presents! It's ALWA
 YS the best!\n\nFor more information visit http://worldofwiffledust.co
 m/events/callagahn-full-band-show-matthew-kahler-supporting-at-the-red
DTSTART:20120527T000000Z
DTEND:20120527T030000Z
CATEGORIES:theater, full, band, show
LOCATION:The Red Clay Theater/Eddie Owen Presents
WEBSITE:http://www.eddieowenpresents.com/
URL:http://www.eddieowenpresents.com/
CONTACT:(404) 478-2749
ORGANIZER;CN="Matthew Kahler":http://worldofwiffledust.com/profile/mat
 thewkahler
ATTACH;FMTTYPE="image/jpeg":http://storage.ning.com/topology/rest/1.0/
 file/get/1083776231?profile=original
ATTENDEE;ROLE=REQ-PARTICIPANT;PARTSTAT=ACCEPTED;RSVP=TRUE;CN="Matthew 
 Kahler":http://worldofwiffledust.com/profile/matthewkahler
END:VEVENT
END:VCALENDAR
