BEGIN:VCALENDAR
PRODID:NingEventWidget-v1
VERSION:2.0
METHOD:PUBLISH
BEGIN:VEVENT
UID:2870411:Event:5612
DTSTAMP:20260420T073906Z
SUMMARY:Burlap & Bean
DESCRIPTION:Burlap and Bean is transformed from a cozy cafe into an in
 timate musical venue each weekend.\n\nBring your honey out for a Valen
 tine's Day treat of warm apple cider and live music featuring Liz Long
 ley & Seth Glier this Saturday the 13th. Purchase tickets in advance.\
 n\nFor more information visit http://worldofwiffledust.com/events/burl
 ap-bean
DTSTART:20100214T010000Z
DTEND:20100214T040000Z
CATEGORIES:live, music, show
LOCATION:Burlap & Bean
WEBSITE:http://www.burlapandbean.com/events.htm#20100213
URL:http://www.burlapandbean.com/events.htm#20100213
CONTACT:484-427-4547
ORGANIZER;CN="Liz  Longley":http://worldofwiffledust.com/profile/LizLo
 ngley
ATTACH;FMTTYPE="image/jpeg":
ATTENDEE;ROLE=REQ-PARTICIPANT;PARTSTAT=ACCEPTED;RSVP=TRUE;CN="Liz  Lon
 gley":http://worldofwiffledust.com/profile/LizLongley
END:VEVENT
END:VCALENDAR
