BEGIN:VCALENDAR
PRODID:NingEventWidget-v1
VERSION:2.0
METHOD:PUBLISH
BEGIN:VEVENT
UID:2870411:Event:2918
DTSTAMP:20260420T150704Z
SUMMARY:Buddy Mondlock
DESCRIPTION:acoustic performance\n\nFor more information visit http://
 worldofwiffledust.com/events/buddy-mondlock
DTSTART:20091114T010000Z
DTEND:20091114T030000Z
CATEGORIES:performance
LOCATION:Great River Arts Association
WEBSITE:
URL:
CONTACT:
ORGANIZER:
ATTACH;FMTTYPE="image/jpeg":http://storage.ning.com/topology/rest/1.0/
 file/get/1083754636?profile=original
ATTENDEE;ROLE=REQ-PARTICIPANT;PARTSTAT=ACCEPTED;RSVP=TRUE;CN=wiffledus
 t:http://worldofwiffledust.com/profile/wiffledust
END:VEVENT
END:VCALENDAR
